BEGIN:VCALENDAR
PRODID:NingEventWidget-v1
VERSION:2.0
METHOD:PUBLISH
BEGIN:VTIMEZONE
TZID:Europe/Madrid
X-LIC-LOCATION:Europe/Madrid
BEGIN:DAYLIGHT
TZOFFSETFROM:+0100
TZOFFSETTO:+0200
TZNAME:CEST
DTSTART:19700329T020000
RRULE:FREQ=YEARLY;BYMONTH=3;BYDAY=-1SU
END:DAYLIGHT
BEGIN:STANDARD
TZOFFSETFROM:+0200
TZOFFSETTO:+0100
TZNAME:CET
DTSTART:19701025T030000
RRULE:FREQ=YEARLY;BYMONTH=10;BYDAY=-1SU
END:STANDARD
END:VTIMEZONE
BEGIN:VEVENT
UID:4035699:Event:195165
DTSTAMP:20260420T065242Z
SUMMARY:Semana Santa 2012 Crucero Mediterraneo 8 días desde 490€ en
  regimen Todo Inlcuido !!
DESCRIPTION:Esta Semana Santa os proponemos un Crucero por el Mediterr
 áno de 8 días / 7 noches en Régimen de Todo incluido a bordo desd
 e 490€ + 190€ tasas = 680€-60€ descuento de oferta lanzamient
 o = 620€Incluye: Desayuno, comida, cena, bebidas, espectáculos en e
 l teatro, copas en bares o discoteca del barco, programa de animación
 ......y con la oferta de lanzamiento, reservando ahora, te sale por me
 nos de 80€ al día!! ¿te lo vas a perder?Haz Clic en la imagen para
  ver más informaciónNo te lo pierdas, es una ocasión unica a un pr
 ecio expeccional y con grandes ventajas como:Niños gratis (pagan solo
  tasas y propinas)1 Adulto 490€+190€ tasas 1 niño 190€ tasas-6
 0€ oferta lanzamiento = 810€ los dos!!Grandes descuentos en Triple
  o Cuadruple (hasta el 50%) Suplemento en camarote individual con pre
 cios reducidosdesde 240 €PLAZAS LIMITADASSalida desde Barcelona:Sáb
 ado 31 de MarzoInformación General / Camarotes / Cubiertas / Ocio a b
 ordo VER ITINERARIOInformación y reservas:Vacaciones SinglesEasy Trav
 el ConnectionC/Mayor nº 4 - 5º oficinas 5,7 y 928013 Madrid tfno. 91
 .5221998 / 91.7589775vacaciones.singles@etravelc.comwww.vacaciones-sin
 gles.com   Ver otras propuestas en:\n\nPara más información vis
 ita https://vacacionessingles.ning.com/events/crucero-mediterraneo-sem
 ana-santa
DTSTART;TZID=Europe/Madrid:20120331T000000
DTEND;TZID=Europe/Madrid:20120407T235900
CATEGORIES:europa, primavera, crucero, "semana santa", abril, marzo, 2
 012, mediterráneo, cruceros, niños, semanasanta
LOCATION:Mediterráneo
WEBSITE:
URL:
CONTACT:91.5221998
ORGANIZER;CN="VACACIONES SINGLES":https://vacacionessingles.ning.com/p
 rofile/EASYTRAVELCONNECTION
ATTACH;FMTTYPE="image/jpeg":http://storage.ning.com/topology/rest/1.0/
 file/get/1097639122?profile=original
ATTENDEE;ROLE=REQ-PARTICIPANT;PARTSTAT=ACCEPTED;RSVP=TRUE;CN=maría:ht
 tps://vacacionessingles.ning.com/profile/maria394
ATTENDEE;ROLE=REQ-PARTICIPANT;PARTSTAT=ACCEPTED;RSVP=TRUE;CN=FERNANDO:
 https://vacacionessingles.ning.com/profile/FERNANDO815
ATTENDEE;ROLE=REQ-PARTICIPANT;PARTSTAT=ACCEPTED;RSVP=TRUE;CN=rocio:htt
 ps://vacacionessingles.ning.com/profile/rocio225
ATTENDEE;ROLE=REQ-PARTICIPANT;PARTSTAT=ACCEPTED;RSVP=TRUE;CN=miguel:ht
 tps://vacacionessingles.ning.com/profile/miguel872
ATTENDEE;ROLE=REQ-PARTICIPANT;PARTSTAT=ACCEPTED;RSVP=TRUE;CN=Dori:http
 s://vacacionessingles.ning.com/profile/Dori
ATTENDEE;ROLE=REQ-PARTICIPANT;PARTSTAT=ACCEPTED;RSVP=TRUE;CN=CARMEN:ht
 tps://vacacionessingles.ning.com/profile/CARMEN750
ATTENDEE;ROLE=REQ-PARTICIPANT;PARTSTAT=ACCEPTED;RSVP=TRUE;CN="alberto 
 gonzalez moreno":https://vacacionessingles.ning.com/profile/albertogon
 zalezmoreno
ATTENDEE;ROLE=REQ-PARTICIPANT;PARTSTAT=ACCEPTED;RSVP=TRUE;CN=Juanjo:ht
 tps://vacacionessingles.ning.com/profile/Juanjo983
ATTENDEE;ROLE=REQ-PARTICIPANT;PARTSTAT=ACCEPTED;RSVP=TRUE;CN="VACACION
 ES SINGLES":https://vacacionessingles.ning.com/profile/EASYTRAVELCONNE
 CTION
ATTENDEE;ROLE=REQ-PARTICIPANT;PARTSTAT=TENTATIVE;RSVP=TRUE;CN=jaker:ht
 tps://vacacionessingles.ning.com/profile/gurpidehermosilla
ATTENDEE;ROLE=REQ-PARTICIPANT;PARTSTAT=TENTATIVE;RSVP=TRUE;CN=Iván:ht
 tps://vacacionessingles.ning.com/profile/IvanOrtells
ATTENDEE;ROLE=REQ-PARTICIPANT;PARTSTAT=TENTATIVE;RSVP=TRUE;CN="LUZ A":
 https://vacacionessingles.ning.com/profile/MUNOZCASTILLO
ATTENDEE;ROLE=REQ-PARTICIPANT;PARTSTAT=TENTATIVE;RSVP=TRUE;CN=valeria:
 https://vacacionessingles.ning.com/profile/valeria131
ATTENDEE;ROLE=REQ-PARTICIPANT;PARTSTAT=TENTATIVE;RSVP=TRUE;CN=LUZ:http
 s://vacacionessingles.ning.com/profile/LUZ695
ATTENDEE;ROLE=REQ-PARTICIPANT;PARTSTAT=TENTATIVE;RSVP=TRUE;CN=JAVI:htt
 ps://vacacionessingles.ning.com/profile/JAVI881
ATTENDEE;ROLE=REQ-PARTICIPANT;PARTSTAT=TENTATIVE;RSVP=TRUE;CN=MAY:http
 s://vacacionessingles.ning.com/profile/MAY
ATTENDEE;ROLE=REQ-PARTICIPANT;PARTSTAT=TENTATIVE;RSVP=TRUE;CN="Rosa de
 l Mar":https://vacacionessingles.ning.com/profile/RosadelMar
ATTENDEE;ROLE=REQ-PARTICIPANT;PARTSTAT=TENTATIVE;RSVP=TRUE;CN=rocio:ht
 tps://vacacionessingles.ning.com/profile/bravofernandez
ATTENDEE;ROLE=REQ-PARTICIPANT;PARTSTAT=TENTATIVE;RSVP=TRUE;CN="Ana Mar
 ía":https://vacacionessingles.ning.com/profile/AnaMaria964
ATTENDEE;ROLE=REQ-PARTICIPANT;PARTSTAT=TENTATIVE;RSVP=TRUE;CN="Mercede
 s Reyes":https://vacacionessingles.ning.com/profile/Reyes826
ATTENDEE;ROLE=REQ-PARTICIPANT;PARTSTAT=TENTATIVE;RSVP=TRUE;CN=Gloria:h
 ttps://vacacionessingles.ning.com/profile/Gloria551
ATTENDEE;ROLE=REQ-PARTICIPANT;PARTSTAT=TENTATIVE;RSVP=TRUE;CN=Lola:htt
 ps://vacacionessingles.ning.com/profile/rosa200304hotmailcom
ATTENDEE;ROLE=REQ-PARTICIPANT;PARTSTAT=TENTATIVE;RSVP=TRUE;CN=sony:htt
 ps://vacacionessingles.ning.com/profile/sony664
ATTENDEE;ROLE=REQ-PARTICIPANT;PARTSTAT=TENTATIVE;RSVP=TRUE;CN=auñon:h
 ttps://vacacionessingles.ning.com/profile/iluminada100
ATTENDEE;ROLE=REQ-PARTICIPANT;PARTSTAT=TENTATIVE;RSVP=TRUE;CN=susana:h
 ttps://vacacionessingles.ning.com/profile/32ntyiomv9s6l
ATTENDEE;ROLE=REQ-PARTICIPANT;PARTSTAT=TENTATIVE;RSVP=TRUE;CN="A.K. Co
 laboradora de Vac.Singles":https://vacacionessingles.ning.com/profile/
 Angela
ATTENDEE;ROLE=REQ-PARTICIPANT;PARTSTAT=TENTATIVE;RSVP=TRUE;CN=angy:htt
 ps://vacacionessingles.ning.com/profile/angy
ATTENDEE;ROLE=REQ-PARTICIPANT;PARTSTAT=TENTATIVE;RSVP=TRUE;CN=charo:ht
 tps://vacacionessingles.ning.com/profile/charo160
ATTENDEE;ROLE=REQ-PARTICIPANT;PARTSTAT=TENTATIVE;RSVP=TRUE;CN=EVARO:ht
 tps://vacacionessingles.ning.com/profile/EVARO
ATTENDEE;ROLE=REQ-PARTICIPANT;PARTSTAT=TENTATIVE;RSVP=TRUE;CN=Luis:htt
 ps://vacacionessingles.ning.com/profile/LuisCL
ATTENDEE;ROLE=REQ-PARTICIPANT;PARTSTAT=TENTATIVE;RSVP=TRUE;CN=montserr
 at:https://vacacionessingles.ning.com/profile/montserrat547
ATTENDEE;ROLE=REQ-PARTICIPANT;PARTSTAT=TENTATIVE;RSVP=TRUE;CN=begoña:
 https://vacacionessingles.ning.com/profile/begona218
END:VEVENT
END:VCALENDAR
