BEGIN:VCALENDAR
PRODID:NingEventWidget-v1
VERSION:2.0
METHOD:PUBLISH
BEGIN:VTIMEZONE
TZID:Europe/Madrid
X-LIC-LOCATION:Europe/Madrid
BEGIN:DAYLIGHT
TZOFFSETFROM:+0100
TZOFFSETTO:+0200
TZNAME:CEST
DTSTART:19700329T020000
RRULE:FREQ=YEARLY;BYMONTH=3;BYDAY=-1SU
END:DAYLIGHT
BEGIN:STANDARD
TZOFFSETFROM:+0200
TZOFFSETTO:+0100
TZNAME:CET
DTSTART:19701025T030000
RRULE:FREQ=YEARLY;BYMONTH=10;BYDAY=-1SU
END:STANDARD
END:VTIMEZONE
BEGIN:VEVENT
UID:4035699:Event:237394
DTSTAMP:20260422T183939Z
SUMMARY:Encuentro Internacional de Singles en CUBA :: MAYO 2013
DESCRIPTION:Todos los aÃ±osÂ en CUBA se organiza el mejor y mÃ¡s diver
 tido encuentro internacional de Singles.Â   En ediciones anteriores si
 empre han participado sobre todoÂ Singles de Argentina, Brasil, Puerto
  Rico, Colombia, Uruguay, MÃ©xico, Italia, Francia etc...\ny los Singl
 es espaÃ±oles no vamos a faltar!! Â¿te apuntas?  Otro aÃ±o mas.. nos v
 amos a Cuba a celebrar la SUPERFIESTA DE SOLTEROS.  (Algo diferente so
 lo para gente con ganas de divertirse a tope)  SUPERFIESTA INTERNACION
 AL DE SOLTEROS CUBA MAYO 2013  En laÂ ÃºltimaÂ ediciÃ³n delÂ aÃ±o pasa
 do participaron mÃ¡s deÂ 200 personas de Latinoamerica y Europa...  Â¿
 Este aÃ±o...TE VIENES TU TAMBIEN?  PRECIO FINAL TODO INCLUIDO:Â  1.455
  â‚¬ (en habitaciÃ³n individual y con tasas incluidas)  haz clic aqui 
 para VER EL PROGRAMA COMPLETO  haz clic paraÂ SOLICITAR TU RESERVA  Vi
 deo de ediciones anteriores \nÂ  Â Â Â  PRECIOS CON VUELOS: 1.445 â‚¬Â
  ( SIN VUELOSÂ 720 â‚¬)  Incluye: Billetes AÃ©reos Madrid â€“ Habana â
 €“ Madrid con Cubana de AviaciÃ³n, Alojamiento en habitaciÃ³n individu
 al,Â Â Â Â 2 noches en en el Hotel Presidente de la Habana (alojamient
 o y desayuno) +Â Â 7 noches en TI en el hotel Superclubs Breezes Bella
 costa 4* de Varadero, Todas las actividades detalladas del programa, T
 raslados, Seguro de Viaje, Visado de entrada en Cuba, Tasas EspaÃ±olas
  y Carburante.\nLos precios no incluyen: Tasas de salidaÂ de Cuba: 20 
 â‚¬ aprox ni otros servicios no mencionados en \"el precio incluye\"\n
 LosÂ  precios anteriores incluyen 275 â‚¬ de tasas y carburantes (suje
 tos a modificaciÃ³n)\n Haz click aqui para VER EL PROGRAMA COMPLETO  I
 nformaciÃ³n y reservas:  Vacaciones Singles Easy Travel Connection S.L
 . Licencia C.I.C.M.A 2371 Mm C/Mayor nÂº 4 - 5Âº oficinas 5,7 y 9 2801
 3 Madrid  tfno. 91.5221998 vacaciones.singles@etravelc.com www.vacacio
 nes-singles.com\n\nPara mÃ¡s informaciÃ³n visita https://vacacionessin
 gles.ning.com/events/encuentro-internacional-de-singles-en-cuba-mayo-2
 013
DTSTART;TZID=Europe/Madrid:20130526T000000
DTEND;TZID=Europe/Madrid:20130526T235900
CATEGORIES:america, primavera, encuentros, eventos, divertidos, playas
 , fiestas, encuentro, internacional, singles, caribe, larga, distancia
 , playa, relax, cuba, mayo, 2013
LOCATION:Cuba, Varadero y La Habana
WEBSITE:
URL:
CONTACT:91.5221998
ORGANIZER:
ATTACH;FMTTYPE="image/jpeg":http://storage.ning.com/topology/rest/1.0/
 file/get/1097722564?profile=original
ATTENDEE;ROLE=REQ-PARTICIPANT;PARTSTAT=ACCEPTED;RSVP=TRUE;CN=ilona:htt
 ps://vacacionessingles.ning.com/profile/ilona
ATTENDEE;ROLE=REQ-PARTICIPANT;PARTSTAT=ACCEPTED;RSVP=TRUE;CN="ROSARIO 
 CANO NUÃ‘EZ":https://vacacionessingles.ning.com/profile/ROSARIOCANONUN
 EZ
ATTENDEE;ROLE=REQ-PARTICIPANT;PARTSTAT=ACCEPTED;RSVP=TRUE;CN="VACACION
 ES SINGLES":https://vacacionessingles.ning.com/profile/EASYTRAVELCONNE
 CTION
ATTENDEE;ROLE=REQ-PARTICIPANT;PARTSTAT=TENTATIVE;RSVP=TRUE;CN="Diego Q
 uien Sabe":https://vacacionessingles.ning.com/profile/DiegoQuienSabe
ATTENDEE;ROLE=REQ-PARTICIPANT;PARTSTAT=TENTATIVE;RSVP=TRUE;CN=Claudia:
 https://vacacionessingles.ning.com/profile/Claudia969
ATTENDEE;ROLE=REQ-PARTICIPANT;PARTSTAT=TENTATIVE;RSVP=TRUE;CN=patty:ht
 tps://vacacionessingles.ning.com/profile/patty
ATTENDEE;ROLE=REQ-PARTICIPANT;PARTSTAT=TENTATIVE;RSVP=TRUE;CN=Hortensi
 a:https://vacacionessingles.ning.com/profile/luna386
ATTENDEE;ROLE=REQ-PARTICIPANT;PARTSTAT=TENTATIVE;RSVP=TRUE;CN=jaker:ht
 tps://vacacionessingles.ning.com/profile/gurpidehermosilla
ATTENDEE;ROLE=REQ-PARTICIPANT;PARTSTAT=TENTATIVE;RSVP=TRUE;CN="JOSE JU
 AN":https://vacacionessingles.ning.com/profile/JOSEJUAN
ATTENDEE;ROLE=REQ-PARTICIPANT;PARTSTAT=TENTATIVE;RSVP=TRUE;CN="David I
 zquierdo":https://vacacionessingles.ning.com/profile/DavidIzquierdo
ATTENDEE;ROLE=REQ-PARTICIPANT;PARTSTAT=TENTATIVE;RSVP=TRUE;CN=Gisella:
 https://vacacionessingles.ning.com/profile/Gisella
ATTENDEE;ROLE=REQ-PARTICIPANT;PARTSTAT=TENTATIVE;RSVP=TRUE;CN=carmen:h
 ttps://vacacionessingles.ning.com/profile/3i0k38lyl9831
ATTENDEE;ROLE=REQ-PARTICIPANT;PARTSTAT=TENTATIVE;RSVP=TRUE;CN=josep:ht
 tps://vacacionessingles.ning.com/profile/josep290
ATTENDEE;ROLE=REQ-PARTICIPANT;PARTSTAT=TENTATIVE;RSVP=TRUE;CN=Nela:htt
 ps://vacacionessingles.ning.com/profile/Nela
ATTENDEE;ROLE=REQ-PARTICIPANT;PARTSTAT=TENTATIVE;RSVP=TRUE;CN=JAVIER:h
 ttps://vacacionessingles.ning.com/profile/JAVIER206
ATTENDEE;ROLE=REQ-PARTICIPANT;PARTSTAT=TENTATIVE;RSVP=TRUE;CN="Ana Mar
 Ã­a":https://vacacionessingles.ning.com/profile/AnaMaria964
ATTENDEE;ROLE=REQ-PARTICIPANT;PARTSTAT=TENTATIVE;RSVP=TRUE;CN=alejandr
 o:https://vacacionessingles.ning.com/profile/alejandro362
ATTENDEE;ROLE=REQ-PARTICIPANT;PARTSTAT=TENTATIVE;RSVP=TRUE;CN=mili:htt
 ps://vacacionessingles.ning.com/profile/mili
ATTENDEE;ROLE=REQ-PARTICIPANT;PARTSTAT=TENTATIVE;RSVP=TRUE;CN="fernand
 o Collado":https://vacacionessingles.ning.com/profile/fernando61
ATTENDEE;ROLE=REQ-PARTICIPANT;PARTSTAT=TENTATIVE;RSVP=TRUE;CN=Eduardo:
 https://vacacionessingles.ning.com/profile/Eduardo281
ATTENDEE;ROLE=REQ-PARTICIPANT;PARTSTAT=TENTATIVE;RSVP=TRUE;CN="MarÃ­a 
 pomposo MartÃ­n":https://vacacionessingles.ning.com/profile/Mariapompo
 soMartin
END:VEVENT
END:VCALENDAR
