BEGIN:VCALENDAR
PRODID:NingEventWidget-v1
VERSION:2.0
METHOD:PUBLISH
BEGIN:VTIMEZONE
TZID:Europe/Madrid
X-LIC-LOCATION:Europe/Madrid
BEGIN:DAYLIGHT
TZOFFSETFROM:+0100
TZOFFSETTO:+0200
TZNAME:CEST
DTSTART:19700329T020000
RRULE:FREQ=YEARLY;BYMONTH=3;BYDAY=-1SU
END:DAYLIGHT
BEGIN:STANDARD
TZOFFSETFROM:+0200
TZOFFSETTO:+0100
TZNAME:CET
DTSTART:19701025T030000
RRULE:FREQ=YEARLY;BYMONTH=10;BYDAY=-1SU
END:STANDARD
END:VTIMEZONE
BEGIN:VEVENT
UID:4035699:Event:354350
DTSTAMP:20260420T214844Z
SUMMARY:PLAYA Y FIESTA SINGLE en ALFAZ DEL PI (ALICANTE) AGOSTO 2015
DESCRIPTION:En Agosto 2015 NO TE PIERDAS el PROGRAMA PARA SINGLES en 
 ALFAZ DEL PI (ALICANTE)\nEn las anteriores ediciones del programa PLAY
 A Y FIESTA EN ALICANTE han participado un promedio de 80 Singles de to
 da España.\nSiempre ha sido uno de los eventos más divertidos de nu
 estra web y por eso lo repetimos también en AGOSTO 2015\nSerán d
 e 4 días con actividades para todos los participantes. Tendremos SPA
  nocturno solo para nosotros, juegos \"Todos conocen a Todos\", clases
  de salsa, excursiones por los alrededores (Faro de Albir) y saldremos
  de copas por Benidorm\nVen a disfrutar con nosotros de 4 días de pla
 ya y fiesta!\nGRUPO AGOSTO 2015 del 13/08/15 al  16/08/15  \n\nhaz 
 clic aquí para:     INFORMACION GENERAL haz clic aquí para:  
   SOLICITAR TU RESERVA\n\n“Si viajas sol@ puedes elegir habitaci
 n compartida y te asignamos compañer@ en habitación doble o triple 
 para evitar que pagues el Suplemento de habitación Individual”\nEl 
 precio incluye: . 3 Noches en Hotel 4* en PENSIÓN COMPLETA (con agua 
 y vino)\n. Exclusiva apertura nocturna del SPA solo para nosotros\n. C
 lases de salsa\n. Excursión al faro del Albir\n. Juego de Todos Conoc
 en a Todos para amenizar la cena del jueves (día de llegada)\n. Trasl
 ado en autobús ida y vuelta a Benidorm para salir de marcha\n. Coordi
 nador de grupo\n\nEl precio no incluye:\n Transporte desde ciudad de o
 rigen (consúltanos alternativas para compartir coche o medios públic
 os de transporte)\n \nVídeo de ediciones anteriores de nuestro encue
 ntro en Alfaz del Pi (Alicante)\n \n \nReserva tu plaza lo antes posi
 ble para pagar menos!\n \nMás información en:\n\nVacaciones Singles
 \nEasy Travel Connection S.L.\nC/Mayor nº 4 - 5º oficinas 5,7 y 9\n2
 8013 Madrid\ntfno. 91.5221998\nvacaciones.singles@etravelc.com\nwww.va
 caciones-singles.com\n\nVER FORO DE EDICION ANTERIOR DE ESTE VIAJE.\
 n\nPara más información visita https://vacacionessingles.ning.com/ev
 ents/playa-y-fiesta-single-en-alicante
DTSTART;TZID=Europe/Madrid:20150820T000000
DTEND;TZID=Europe/Madrid:20150823T235900
CATEGORIES:2015, agosto, verano, encuentros, divertidos, baratos, jove
 nes, fiestas, playa, single, encuentro, "alfàs del pi", escapadas, es
 paña, alicante
LOCATION:L'Alfàs del Pi (ALICANTE)
WEBSITE:http://maps.google.com/maps?f=q&source=s_q&hl=es&geocode=&q=C%
 5C+H%C3%A9rcules,+1+-+03581+ALFAZ+DEL+PI&sll=37.0625,-95.677068&sspn=3
 2.252269,86.220703&ie=UTF8&hq=&hnear=Calle+de+H%C3%A9rcules,+1,+03581+
 L'Alf%C3%A0s+del+Pi,+Alicante,+Comunidad+Valenciana,+Espa%C3%B1a&ll=38
 .567076,-0.06669&spn=0.007751,0.02105&t=h&z=16
URL:http://maps.google.com/maps?f=q&source=s_q&hl=es&geocode=&q=C%5C+H
 %C3%A9rcules,+1+-+03581+ALFAZ+DEL+PI&sll=37.0625,-95.677068&sspn=32.25
 2269,86.220703&ie=UTF8&hq=&hnear=Calle+de+H%C3%A9rcules,+1,+03581+L'Al
 f%C3%A0s+del+Pi,+Alicante,+Comunidad+Valenciana,+Espa%C3%B1a&ll=38.567
 076,-0.06669&spn=0.007751,0.02105&t=h&z=16
CONTACT:91.5221998
ORGANIZER;CN="VACACIONES SINGLES":https://vacacionessingles.ning.com/p
 rofile/EASYTRAVELCONNECTION
ATTACH;FMTTYPE="image/jpeg":http://storage.ning.com/topology/rest/1.0/
 file/get/1097852793?profile=original
ATTENDEE;ROLE=REQ-PARTICIPANT;PARTSTAT=ACCEPTED;RSVP=TRUE;CN=Monica:ht
 tps://vacacionessingles.ning.com/profile/Monica16
ATTENDEE;ROLE=REQ-PARTICIPANT;PARTSTAT=ACCEPTED;RSVP=TRUE;CN="VACACION
 ES SINGLES":https://vacacionessingles.ning.com/profile/EASYTRAVELCONNE
 CTION
ATTENDEE;ROLE=REQ-PARTICIPANT;PARTSTAT=ACCEPTED;RSVP=TRUE;CN=JC:https:
 //vacacionessingles.ning.com/profile/CarlosAsensio
ATTENDEE;ROLE=REQ-PARTICIPANT;PARTSTAT=ACCEPTED;RSVP=TRUE;CN=Alejandro
 :https://vacacionessingles.ning.com/profile/Alejandro259
ATTENDEE;ROLE=REQ-PARTICIPANT;PARTSTAT=TENTATIVE;RSVP=TRUE;CN=Fernando
 :https://vacacionessingles.ning.com/profile/Fernando120
END:VEVENT
END:VCALENDAR
